BEGIN:VCALENDAR
VERSION:2.0
PRODID:-//ChamberMaster//Event Calendar 2.0//EN
METHOD:PUBLISH
X-PUBLISHED-TTL:P3D
REFRESH-INTERVAL:P3D
CALSCALE:GREGORIAN
BEGIN:VEVENT
DTSTART:20200118T210000Z
DTEND:20200119T000000Z
X-MICROSOFT-CDO-ALLDAYEVENT:FALSE
SUMMARY:Buena Park Open House - Lauren Dunn\, Century 21 Discovery
DESCRIPTION:Open House for a townhome built in 2018. \n\n\n\nProperty Link:
X-ALT-DESC;FMTTYPE=text/html:Open House for a townhome built in 2018.&nbsp\;<br />\n<br />\n<a href="http://8569corsicaln.c21.com/" target="_blank">Property Link:&nbsp\;</a>
LOCATION:8569 Corsica Lane Buena Park\, CA
UID:e.887.24068
SEQUENCE:3
DTSTAMP:20260421T191859Z
URL:https://business.nocchamber.com/events/details/buena-park-open-house-lauren-dunn-century-21-discovery-24068
END:VEVENT

END:VCALENDAR
