BEGIN:VCALENDAR
VERSION:2.0
PRODID:-//ChamberMaster//Event Calendar 2.0//EN
METHOD:PUBLISH
X-PUBLISHED-TTL:P3D
REFRESH-INTERVAL:P3D
CALSCALE:GREGORIAN
BEGIN:VEVENT
DTSTART:20200525T170000Z
DTEND:20200525T190000Z
X-MICROSOFT-CDO-ALLDAYEVENT:FALSE
SUMMARY:Buena Park: Memorial Day Remembrance Service
DESCRIPTION:The community is invited to join together on Memorial Day at Bellis Park in honor of the brave men and women who have sacrificed to protect our democracy\, freedom\, and liberty. This event honors family members who have lost loved ones\, as well as those who are currently serving this great nation. A picnic in the park will follow the event.
X-ALT-DESC;FMTTYPE=text/html:The community is invited to join together on Memorial Day at Bellis Park in honor of the brave men and women who have sacrificed to protect our democracy\, freedom\, and liberty. This event honors family members who have lost loved ones\, as well as those who are currently serving this great nation. A picnic in the park will follow the event.
LOCATION:George Bellis Park 7171 8th Street Buena Park\, CA 90620
UID:e.887.24251
SEQUENCE:3
DTSTAMP:20260421T143445Z
URL:https://business.nocchamber.com/events/details/buena-park-memorial-day-remembrance-service-24251
END:VEVENT

END:VCALENDAR
