BEGIN:VCALENDAR
VERSION:2.0
PRODID:-//ChamberMaster//Event Calendar 2.0//EN
METHOD:PUBLISH
X-PUBLISHED-TTL:P3D
REFRESH-INTERVAL:P3D
CALSCALE:GREGORIAN
BEGIN:VEVENT
DTSTART:20190527T170000Z
DTEND:20190527T193000Z
X-MICROSOFT-CDO-ALLDAYEVENT:FALSE
SUMMARY:Buena Park Memorial Day Ceremony 2019
DESCRIPTION:The community is invited to join together on Memorial Day at Bellis Park for the 38th annual commemoration in honor of the brave men and women who have sacrificed to protect our democracy\, freedom\, and liberty.\n\n\n\nThis event honors family members who have lost loved ones\, as well as those who are currently serving this great nation. A picnic in the park will follow the event.\n\n\n\nPancake Breakfast: 8:00-9:30 a.m. \n\n(Presented by Soroptomist Club)\n\nService Begins at 10:00 a.m\n\nThe Buena Park Moose Lodge 1945 is proud to be the host organization for this compassionate event. For more information\, please contact the Community Services Dept. at (714) 562-3860.
X-ALT-DESC;FMTTYPE=text/html:<p>The community is invited to join together on Memorial Day at Bellis Park for the 38th annual commemoration&nbsp\;in honor of the brave men and women who have sacrificed to protect our democracy\, freedom\, and liberty.<br />\n<br />\nThis event honors family members who have lost loved ones\, as well as those who are currently serving this great nation. A picnic in the park will follow the event.<br />\n<br />\nPancake Breakfast: 8:00-9:30 a.m.&nbsp\;<br />\n(Presented by Soroptomist Club)<br />\nService Begins at 10:00 a.m</p>\n\n<p>The Buena Park Moose Lodge 1945 is proud to be the host organization for this compassionate event. For more information\, please contact the Community Services Dept. at (714) 562-3860.</p>\n
LOCATION:George Bellis Park 7171 8th St. Buena Park\, CA 90620
UID:e.887.23323
SEQUENCE:3
DTSTAMP:20260422T053752Z
URL:https://business.nocchamber.com/events/details/buena-park-memorial-day-ceremony-2019-23323
END:VEVENT

END:VCALENDAR
