BEGIN:VCALENDAR
VERSION:2.0
PRODID:-//ChamberMaster//Event Calendar 2.0//EN
METHOD:PUBLISH
X-PUBLISHED-TTL:P3D
REFRESH-INTERVAL:P3D
CALSCALE:GREGORIAN
BEGIN:VEVENT
DTSTART:20191106T153000Z
DTEND:20191107T013000Z
X-MICROSOFT-CDO-ALLDAYEVENT:FALSE
SUMMARY:Buena Park Exhibiting Artist: The Beauty of Quilts
DESCRIPTION:The City of Buena Park presents an exhibit featuring quilts from the Acacia Quilt Guild and the Subterranean Quilters. These handcrafted textiles were created to illustrate a story\, donated to charitable organizations\, and for the appreciation of the craft.
X-ALT-DESC;FMTTYPE=text/html:The City of Buena Park presents an exhibit featuring quilts from the Acacia Quilt Guild and the Subterranean Quilters. These handcrafted textiles were created to illustrate a story\, donated to charitable organizations\, and for the appreciation of the craft.&nbsp\;
LOCATION:Buena Park City Hall 6650 Beach Blvd. Buena Park\, CA\, 90621
UID:e.887.23810
SEQUENCE:3
DTSTAMP:20260421T215153Z
URL:https://business.nocchamber.com/events/details/buena-park-exhibiting-artist-the-beauty-of-quilts-23810
END:VEVENT

END:VCALENDAR
