BEGIN:VCALENDAR
VERSION:2.0
PRODID:-//ChamberMaster//Event Calendar 2.0//EN
METHOD:PUBLISH
X-PUBLISHED-TTL:P3D
REFRESH-INTERVAL:P3D
CALSCALE:GREGORIAN
BEGIN:VEVENT
DTSTART:20200411T160000Z
DTEND:20200411T200000Z
X-MICROSOFT-CDO-ALLDAYEVENT:FALSE
SUMMARY:Buena Park Drive-Up Spring EGGSTRAVAGANZA
DESCRIPTION:City of Buena Park wants to celebrate with you.\n\n\n\nSpring Eggstravaganza is now DRIVE-UP!  Come on down this Saturday for a bag of candy/goodies & an Easter Bunny sighting!\n\nCall (714) 562-3860 to schedule a drive-up time.
X-ALT-DESC;FMTTYPE=text/html:<p>City of Buena Park wants to celebrate with you.<br />\n<br />\nSpring Eggstravaganza is now DRIVE-UP!&nbsp\;&nbsp\;Come on down this Saturday for a bag of candy/goodies &amp\; an Easter Bunny sighting!<o:p></o:p></p>\n\n<p><strong>Call (714) 562-3860 to schedule a drive-up time.</strong><br />\n<o:p></o:p></p>\n
LOCATION:Location: Buena Park Community Center 6688 Beach Blvd. Buena Park\, California 90621
UID:e.887.24271
SEQUENCE:3
DTSTAMP:20260421T153349Z
URL:https://business.nocchamber.com/events/details/buena-park-drive-up-spring-eggstravaganza-24271
END:VEVENT

END:VCALENDAR
