BEGIN:VCALENDAR
VERSION:2.0
PRODID:-//ChamberMaster//Event Calendar 2.0//EN
METHOD:PUBLISH
X-PUBLISHED-TTL:P3D
REFRESH-INTERVAL:P3D
CALSCALE:GREGORIAN
BEGIN:VEVENT
DTSTART:20191031T210000Z
DTEND:20191101T000000Z
X-MICROSOFT-CDO-ALLDAYEVENT:FALSE
SUMMARY:Buena Park - Cops N' Goblins: Halloween Trick or Treating
DESCRIPTION:Enjoy ghoulish characters from Medieval Times\, Pirates Dinner Adventure\, and Knott's Berry Farm as you trick-or-treat. The Buena Park Police Department and City Hall will both be decorated\, offering free candy\, a haunted maze\, and more.
X-ALT-DESC;FMTTYPE=text/html:Enjoy ghoulish characters from Medieval Times\, Pirates Dinner Adventure\, and Knott&#39\;s Berry Farm as you trick-or-treat. The Buena Park Police Department and City Hall will both be decorated\, offering free candy\, a haunted maze\, and more.
LOCATION:Buena Park Police Department 6640 Beach Blvd. Buena Park\, California 90621
UID:e.887.23756
SEQUENCE:3
DTSTAMP:20260422T001045Z
URL:https://business.nocchamber.com/events/details/buena-park-cops-n-goblins-halloween-trick-or-treating-23756
END:VEVENT

END:VCALENDAR
