BEGIN:VCALENDAR
VERSION:2.0
PRODID:-//ChamberMaster//Event Calendar 2.0//EN
METHOD:PUBLISH
X-PUBLISHED-TTL:P3D
REFRESH-INTERVAL:P3D
CALSCALE:GREGORIAN
BEGIN:VEVENT
DTSTART:20191215T230000Z
DTEND:20191216T010000Z
X-MICROSOFT-CDO-ALLDAYEVENT:FALSE
SUMMARY:Buena Park Community Chorus - Winter Holiday Concert
DESCRIPTION:The Buena Park Community Chorus\, in partnership with the Buena Park Coordinating Council\, encourages attendees to bring non-perishable food items to the event.  All food will be donated to families in need that reside within Buena Park.
X-ALT-DESC;FMTTYPE=text/html:<p background-color:="" color:="" font-size:="" line-height:="" margin-bottom:="" margin-top:="" open="">The Buena Park Community Chorus\, in partnership with the Buena Park Coordinating Council\, encourages attendees to bring non-perishable food items to the event.&nbsp\; All food will be donated to families in need that reside within Buena Park.&nbsp\;</p>\n
LOCATION:Ehlers Event Center 8150 Knott Avenue Buena Park\, CA 90620
UID:e.887.23774
SEQUENCE:3
DTSTAMP:20260421T203620Z
URL:https://business.nocchamber.com/events/details/buena-park-community-chorus-winter-holiday-concert-12-15-2019-23774
END:VEVENT

END:VCALENDAR
