BEGIN:VCALENDAR
VERSION:2.0
PRODID:-//ChamberMaster//Event Calendar 2.0//EN
METHOD:PUBLISH
X-PUBLISHED-TTL:P3D
REFRESH-INTERVAL:P3D
CALSCALE:GREGORIAN
BEGIN:VEVENT
DTSTART:20191207T020000Z
DTEND:20191207T030000Z
X-MICROSOFT-CDO-ALLDAYEVENT:FALSE
SUMMARY:Buena Park Christmas Tree Lighting
DESCRIPTION:The festivities kick off with the lighting of the tree by City Council followed by special musical performances\, train from the North Pole\, family holiday photos\, storytellers\, and more.\n\n\n\nSanta and Mrs. Claus will appear in an Orange County Fire Authority truck.\n\n\n\nEvent will host a Toy Drive benefiting local charities.  Attendees are encouraged to bring new\, unwrapped gifts for a child.
X-ALT-DESC;FMTTYPE=text/html:The festivities kick off with the lighting of the tree by City Council followed by special musical performances\, train from the North Pole\, family holiday photos\, storytellers\, and more.<br />\n<br />\nSanta and Mrs. Claus will appear in an Orange County Fire Authority truck.<br />\n<br />\nEvent will host a Toy Drive benefiting local charities.&nbsp\; Attendees are encouraged to bring new\, unwrapped gifts for a child.&nbsp\;&nbsp\;
LOCATION:Buena Park City Hall 6650 Beach Blvd. Buena Park\, CA\, 90621
UID:e.887.23758
SEQUENCE:3
DTSTAMP:20260421T202728Z
URL:https://business.nocchamber.com/events/details/buena-park-christmas-tree-lighting-12-06-2019-23758
END:VEVENT

END:VCALENDAR
