BEGIN:VCALENDAR
VERSION:2.0
PRODID:-//ChamberMaster//Event Calendar 2.0//EN
METHOD:PUBLISH
X-PUBLISHED-TTL:P3D
REFRESH-INTERVAL:P3D
CALSCALE:GREGORIAN
BEGIN:VEVENT
DTSTART:20190309T170000Z
DTEND:20190309T200000Z
X-MICROSOFT-CDO-ALLDAYEVENT:FALSE
SUMMARY:Buena Park Arbor Day
DESCRIPTION:In partnership with the Beautification-Environmental Commission\, the CIRCLE 3.0 team will be planting 200 trees across the City. The trees planted will have numerous environmental and health benefits.\n\n\n\nPlease bring shovels and/or gloves. \nFor more information\, or if you have questions\, please email dpineda@wcainc.com\, or visit www.CATrees.org.
X-ALT-DESC;FMTTYPE=text/html:In partnership with the Beautification-Environmental Commission\, the CIRCLE 3.0 team will be planting 200 trees across the City. The trees planted will have numerous environmental and health benefits.<br />\n<br />\nPlease bring shovels and/or gloves.&nbsp\;\n<p>For more information\, or if you have questions\, please email <a href="mailto:dpineda@wcainc.com">dpineda@wcainc.com</a>\, or visit <a href="http://www.CATrees.org">www.CATre</a><a href="http://www.CATrees.org">es.org</a>.<o:p></o:p></p>\n
LOCATION:Smith-Murphy Park 5290 Cameron Drive Buena Park\, CA 90621
UID:e.887.23018
SEQUENCE:3
DTSTAMP:20260422T091021Z
URL:https://business.nocchamber.com/events/details/buena-park-arbor-day-23018
END:VEVENT

END:VCALENDAR
