BEGIN:VCALENDAR
VERSION:2.0
PRODID:-//ChamberMaster//Event Calendar 2.0//EN
METHOD:PUBLISH
X-PUBLISHED-TTL:P3D
REFRESH-INTERVAL:P3D
CALSCALE:GREGORIAN
BEGIN:VEVENT
DTSTART:20190705T043000Z
DTEND:20190705T060000Z
X-MICROSOFT-CDO-ALLDAYEVENT:FALSE
SUMMARY:Buena Park 4th of July Celebration at Knott's Berry Farm
DESCRIPTION:This Independence Day weekend in Buena Park\, Knott's Berry Farm will offer entertainment all through the night this 4th of July\, including a special fireworks display on the holiday. Knott's Berry Farm offers one of the area's best July 4th events\, with special family-friendly entertainment during the day and spectacular fireworks in the evening.
X-ALT-DESC;FMTTYPE=text/html:This Independence Day weekend in Buena Park\, Knott&#39\;s Berry Farm will offer entertainment all through the night this 4th of July\, including a special fireworks display on the holiday. Knott&rsquo\;s Berry Farm offers one of the area&rsquo\;s best July 4th events\, with special family-friendly entertainment during the day and spectacular fireworks in the evening.
LOCATION:Knotts Berry Farm 8039 Beach Blvd Buena Park\, CA 90620
UID:e.887.23419
SEQUENCE:3
DTSTAMP:20260422T041941Z
URL:https://business.nocchamber.com/events/details/buena-park-4th-of-july-celebration-at-knott-s-berry-farm-23419
END:VEVENT

END:VCALENDAR
