BEGIN:VCALENDAR
VERSION:2.0
PRODID:-//ChamberMaster//Event Calendar 2.0//EN
METHOD:PUBLISH
X-PUBLISHED-TTL:P3D
REFRESH-INTERVAL:P3D
CALSCALE:GREGORIAN
BEGIN:VEVENT
DTSTART:20170628T190000Z
DTEND:20170628T210000Z
X-MICROSOFT-CDO-ALLDAYEVENT:FALSE
SUMMARY:Bringing Learning to Work
DESCRIPTION:This program connects faculty expertise at Cal State Fullerton to businesses in the Orange County community in a series of "Lunch & Learn" topics (75-90 minutes)   all designed by the Center for Leadership to provide worldclass training. The programs thought leaders facilitate and offer organizations premium solutions to business and leadership needs. Your organization handles the location\, facility\, and food (if applicable)\, while they bring learning to (your) work! Build your own customized programming from a variety of key topics to perfectly fit your organization's needs. Proceeds from Bringing Learning to Work go directly to support student programs   so while you help your organization\, you also help students by contributing to scholarships\, initiatives\, and ultimately\, investing in the long-term human capital of Orange County.
X-ALT-DESC;FMTTYPE=text/html:This program connects faculty expertise at Cal State Fullerton to businesses in the Orange County community in a series of &ldquo\;Lunch &amp\; Learn&rdquo\; topics (75-90 minutes) &mdash\; all designed by the Center for Leadership to provide worldclass training. The programs thought leaders facilitate and offer organizations premium solutions to business and leadership needs. Your organization handles the location\, facility\, and food (if applicable)\, while they bring learning to (your) work! Build your own customized programming from a variety of key topics to perfectly fit your organization&rsquo\;s needs. Proceeds from Bringing Learning to Work go directly to support student programs &mdash\; so while you help your organization\, you also help students by contributing to scholarships\, initiatives\, and ultimately\, investing in the long-term human capital of Orange County.&nbsp\;
LOCATION:Mission Viejo City Hall - Saddle Back Room 200 Civic Center Mission Viejo\, CA 92692
UID:e.887.16172
SEQUENCE:3
DTSTAMP:20260421T032322Z
URL:https://business.nocchamber.com/events/details/bringing-learning-to-work-16172
END:VEVENT

END:VCALENDAR
