BEGIN:VCALENDAR
VERSION:2.0
PRODID:-//ChamberMaster//Event Calendar 2.0//EN
METHOD:PUBLISH
X-PUBLISHED-TTL:P3D
REFRESH-INTERVAL:P3D
CALSCALE:GREGORIAN
BEGIN:VEVENT
DTSTART:20180309T153000Z
DTEND:20180309T163000Z
X-MICROSOFT-CDO-ALLDAYEVENT:FALSE
SUMMARY:Breakfast Club with President pro Tempore of the California State Senate\, Kevin De Leon
DESCRIPTION:Assemblywoman of the 65th District\, Sharon Quirk-Silva\, will be hosting a Breakfast Club meeting for fellow community\, local government\, business\, and labor leaders in Orange County. This event will allow attendees to get a firsthand perspective about the issues that are affecting our state. The featured guest at this Breakfast Club meeting will be Kevin De Leon .President pro Tempore of the California State Senate. The free Breakfast Club gathering will include a continental breakfast as they bring Sacramento to Orange County.
X-ALT-DESC;FMTTYPE=text/html:<span style="font-size:12px\;">Assemblywoman of the 65th District\, Sharon Quirk-Silva\, will be hosting a Breakfast Club meeting for fellow community\, local government\, business\, and labor leaders in Orange County. This event will allow attendees to get a firsthand perspective about the issues that are affecting our state. The featured guest at this Breakfast Club meeting will be&nbsp\;<span style="font-family: &quot\;Helvetica Neue&quot\;\,Helvetica\,Arial\,sans-serif\;">Kevin De Leon</span>&nbsp\;.<span style="font-family: &quot\;Helvetica Neue&quot\;\,Helvetica\,Arial\,sans-serif\;">President pro Tempore of the California State Senate. </span>The free Breakfast Club gathering will include a continental breakfast as they bring Sacramento to Orange County.</span>
LOCATION:The Titan Theatre California State University\, Fullerton 800 N State College Blvd. Fullerton (Enter through State College Boulevard to Student Union Way)
UID:e.887.17770
SEQUENCE:3
DTSTAMP:20260421T233444Z
URL:https://business.nocchamber.com/events/details/breakfast-club-with-president-pro-tempore-of-the-california-state-senate-kevin-de-leon-17770
END:VEVENT

END:VCALENDAR
