BEGIN:VCALENDAR
VERSION:2.0
PRODID:-//ChamberMaster//Event Calendar 2.0//EN
METHOD:PUBLISH
X-PUBLISHED-TTL:P3D
REFRESH-INTERVAL:P3D
CALSCALE:GREGORIAN
BEGIN:VEVENT
DTSTART:20170623T143000Z
DTEND:20170623T153000Z
X-MICROSOFT-CDO-ALLDAYEVENT:FALSE
SUMMARY:Breakfast Club Meeting hosted by Assemblywoman Sharon Quirk-Silva
DESCRIPTION:Assemblywoman Sharon Quirk-Silva pledges to serve with a commitment to maintain an open and consistent dialogue with her constituents and to that end is hosting a series of Breakfast Club meetings for community\, local government\, business and labor leaders in Orange County. This will give a firsthand perspective about the issues that are impacting our state.
X-ALT-DESC;FMTTYPE=text/html:<p>Assemblywoman Sharon Quirk-Silva pledges&nbsp\;to serve with a commitment to maintain an open and consistent dialogue with her&nbsp\;constituents and to that end is hosting a series of Breakfast Club meetings for community\, local government\, business and labor leaders in Orange County. This will give a firsthand perspective about the issues that are impacting our state.</p>\n
LOCATION:Cypress Community Center 5700 Orange Ave Cypress\, CA 90630
UID:e.887.16164
SEQUENCE:3
DTSTAMP:20260421T015316Z
URL:https://business.nocchamber.com/events/details/breakfast-club-meeting-hosted-by-assemblywoman-sharon-quirk-silva-16164
END:VEVENT

END:VCALENDAR
