BEGIN:VCALENDAR
VERSION:2.0
PRODID:-//ChamberMaster//Event Calendar 2.0//EN
METHOD:PUBLISH
X-PUBLISHED-TTL:P3D
REFRESH-INTERVAL:P3D
CALSCALE:GREGORIAN
BEGIN:VEVENT
DTSTART:20200207T020000Z
DTEND:20200207T044500Z
X-MICROSOFT-CDO-ALLDAYEVENT:FALSE
SUMMARY:Brea: SCORE Workshop for Marketing and Promotion
DESCRIPTION:SCORE will be hosting a workshop led by Carl Woodard to teach business owners key tools regarding marketing\, promotion\, advertising\, and sales.
X-ALT-DESC;FMTTYPE=text/html:SCORE will be hosting a workshop led by Carl Woodard&nbsp\;to teach business owners key tools regarding marketing\, promotion\, advertising\, and sales.<br />\n&nbsp\;
LOCATION:City of Brea Conference Center 1 Civic Center Circle\, 2nd Floor Brea\, CA 92821
UID:e.887.24080
SEQUENCE:3
DTSTAMP:20260421T191500Z
URL:https://business.nocchamber.com/events/details/brea-score-workshop-for-marketing-and-promotion-24080
END:VEVENT

END:VCALENDAR
