BEGIN:VCALENDAR
VERSION:2.0
PRODID:-//ChamberMaster//Event Calendar 2.0//EN
METHOD:PUBLISH
X-PUBLISHED-TTL:P3D
REFRESH-INTERVAL:P3D
CALSCALE:GREGORIAN
BEGIN:VEVENT
DTSTART:20200220T020000Z
DTEND:20200220T043000Z
X-MICROSOFT-CDO-ALLDAYEVENT:FALSE
SUMMARY:Brea: SCORE Workshop - Demystifying Financial Statements
DESCRIPTION:Jim Chamberlain of SCORE presents a workshop on learning how to use basic financial statements and other key measurements to improve decision making\, interpret a company's financial signals\, and gain an understanding of basic business terminology.
X-ALT-DESC;FMTTYPE=text/html:Jim Chamberlain of SCORE presents a workshop on learning how to use basic financial statements and other key measurements to improve decision making\, interpret a company&#39\;s financial signals\, and gain an understanding of basic business terminology.
LOCATION:Staples 2375 E Imperial Hwy. Brea\, CA 92821
UID:e.887.24100
SEQUENCE:3
DTSTAMP:20260421T180911Z
URL:https://business.nocchamber.com/events/details/brea-score-workshop-demystifying-financial-statements-24100
END:VEVENT

END:VCALENDAR
