BEGIN:VCALENDAR
VERSION:2.0
PRODID:-//ChamberMaster//Event Calendar 2.0//EN
METHOD:PUBLISH
X-PUBLISHED-TTL:P3D
REFRESH-INTERVAL:P3D
CALSCALE:GREGORIAN
BEGIN:VEVENT
DTSTART:20200227T170000Z
DTEND:20200227T200000Z
X-MICROSOFT-CDO-ALLDAYEVENT:FALSE
SUMMARY:Brea: SCORE Workshop - 2020 HR Workplace Compliance
DESCRIPTION:NEW EMPLOYMENT LAWS AND TRENDS FOR 2020\n\n\n\nIn this session\, new employment laws and trends that affect California employers will be reviewed.  You will also receive tips and resources to help you cut through the complexity\, to protect you and your organization and effectively manage risk.\n\n \n\nAudrianne Adams Lee\, President and Founder of HR NETwork\, Inc. brings to the workshop twenty five years of human resources expertise from Fortune 500 high-technology and service companies.  Audrianne has an extensive background and "hands-on" experience in the design and implementation of HR programs for small businesses that keep employers in compliance\, while motivating employees towards increased business performance. HR NETwork\, an HR outsourcing company\, was designed to partner with businesses\, relieving them of the burden and confusion of the complicated and highly regulated Human Resources systems.  Audrianne holds a Bachelor's degree in Organizational Management and is a certified Senior Professional in Human Resources\, as well as certified in compensation development and design.
X-ALT-DESC;FMTTYPE=text/html:<br />\n<span style="font-size:16px\;"><strong>NEW EMPLOYMENT LAWS AND TRENDS FOR 2020</strong></span><br />\n<br />\nIn this session\, new employment laws and trends that affect California employers will be reviewed.&nbsp\; You will also receive tips and resources to help you cut through the complexity\, to protect you and your organization and effectively manage risk.<br />\n&nbsp\;<br />\nAudrianne Adams Lee\, President and Founder of HR NETwork\, Inc. brings to the workshop twenty five years of human resources expertise from Fortune 500 high-technology and service companies.&nbsp\; Audrianne has an extensive background and &quot\;hands-on&quot\; experience in the design and implementation of HR programs for small businesses that keep employers in compliance\, while motivating employees towards increased business performance. HR NETwork\, an HR outsourcing company\, was designed to partner with businesses\, relieving them of the burden and confusion of the complicated and highly regulated Human Resources systems.&nbsp\; Audrianne holds a Bachelor&#39\;s degree in Organizational Management and is a certified Senior Professional in Human Resources\, as well as certified in compensation development and design.<br />\n&nbsp\;<br />\n<br />\n&nbsp\;
LOCATION:Staples 2375 E Imperial Hwy. Brea\, CA 92821
UID:e.887.24113
SEQUENCE:3
DTSTAMP:20260421T180054Z
URL:https://business.nocchamber.com/events/details/brea-score-workshop-2020-hr-workplace-compliance-24113
END:VEVENT

END:VCALENDAR
