BEGIN:VCALENDAR
VERSION:2.0
PRODID:-//ChamberMaster//Event Calendar 2.0//EN
METHOD:PUBLISH
X-PUBLISHED-TTL:P3D
REFRESH-INTERVAL:P3D
CALSCALE:GREGORIAN
BEGIN:VEVENT
DTSTART:20190704T140000Z
DTEND:20190704T220000Z
X-MICROSOFT-CDO-ALLDAYEVENT:FALSE
SUMMARY:Brea's 4th of July Country Fair
DESCRIPTION:The all day festivities begin with the Kiwanis Pancake Breakfast at 7 a.m. The fair opens at 9 a.m. and continues until 3 p.m. with live entertainment\, kiddie parade\, food\, games\, exhibits\, teen fun area\, and Market Place craft area. Swimming at the Plunge begins at 11 a.m. for $3.\nSchedule:\n\n7 a.m.-10:30 a.m: Kiwanis Pancake Breakfast\n\n9 a.m.-3.p.m.: Car Show\n\n10:15 a.m.-10:30.a.m.: Kiddie Parade and Most Beautiful BowWow (Line up in front of the Gazebo)\n\n12:00 p.m.-3:00 p.m.: Swimming at the Plunge ($3)
X-ALT-DESC;FMTTYPE=text/html:The all day festivities begin with the Kiwanis Pancake Breakfast at 7 a.m. The fair opens at 9 a.m. and continues until 3 p.m. with live entertainment\, kiddie parade\, food\, games\, exhibits\, teen fun area\, and Market Place craft area. Swimming at the Plunge begins at 11 a.m. for $3.\n<p>Schedule:<br />\n7 a.m.-10:30 a.m: Kiwanis Pancake Breakfast<br />\n9 a.m.-3.p.m.: Car Show<br />\n10:15 a.m.-10:30.a.m.: Kiddie Parade and Most Beautiful BowWow (Line up in front of the Gazebo)<br />\n12:00 p.m.-3:00 p.m.: Swimming at the Plunge ($3)</p>\n
LOCATION:City Hall Park 401 S. Brea Blvd. Brea\, CA 92821
UID:e.887.23421
SEQUENCE:3
DTSTAMP:20260422T030504Z
URL:https://business.nocchamber.com/events/details/brea-s-4th-of-july-country-fair-23421
END:VEVENT

END:VCALENDAR
