BEGIN:VCALENDAR
VERSION:2.0
PRODID:-//ChamberMaster//Event Calendar 2.0//EN
METHOD:PUBLISH
X-PUBLISHED-TTL:P3D
REFRESH-INTERVAL:P3D
CALSCALE:GREGORIAN
BEGIN:VEVENT
DTSTART;VALUE=DATE:20190527
DTEND;VALUE=DATE:20190528
TRANSP:TRANSPARENT
X-MICROSOFT-CDO-ALLDAYEVENT:TRUE
SUMMARY:Brea Memorial Day Ceremony 2019
DESCRIPTION:The city of Brea will be holding a memorial day service on Monday\, May 27th at Memory Garden Memorial Park & Mortuary.\n\n\n\nMore than 1\,100 American flags are displayed each year in an Avenue of the Flags at Memory Garden. The grave of each veteran in the park will be also decorated with a white cross and miniature flag.\n\n\n\nThe Avenue of the Flags\, open from 8 a.m. to 3 p.m.\, was started in 1958 with six flags.\n\n\n\nA service will be held at 11:00 a.m.
X-ALT-DESC;FMTTYPE=text/html:The city of Brea will be holding a memorial day service on Monday\, May 27th at Memory Garden Memorial Park &amp\; Mortuary.<br />\n<br />\nMore than 1\,100 American flags are displayed each year in an Avenue of the Flags at Memory Garden. The grave of each veteran in the park will be also decorated with a white cross and miniature flag.<br />\n<br />\nThe Avenue of the Flags\, open from 8 a.m. to 3 p.m.\, was started in 1958 with six flags.<br />\n<br />\nA service will be held at 11:00 a.m.
LOCATION:Memory Garden Memorial Park and Mortuary 455 W Central Ave Brea\, CA 92821
UID:e.887.23324
SEQUENCE:3
DTSTAMP:20260422T053257Z
URL:https://business.nocchamber.com/events/details/brea-memorial-day-ceremony-2019-23324
END:VEVENT

END:VCALENDAR
