BEGIN:VCALENDAR
VERSION:2.0
PRODID:-//ChamberMaster//Event Calendar 2.0//EN
METHOD:PUBLISH
X-PUBLISHED-TTL:P3D
REFRESH-INTERVAL:P3D
CALSCALE:GREGORIAN
BEGIN:VEVENT
DTSTART:20180416T150000Z
DTEND:20180417T030000Z
X-MICROSOFT-CDO-ALLDAYEVENT:FALSE
SUMMARY:Boys & Girls Clubs of Fullerton 25th Annual Hoby Brenner Charity Golf Tournament
DESCRIPTION:Have fun while supporting a great cause at the Boys and Girls Clubs of Fullerton 25th Annual Hoby Brenner Charity Golf Tournament. Enjoy a continental breakfast\, golf tournament\, lunch\, dinner\, contests\, and more at this popular event.\n\nThis event is limited to 144 golfers. \n\n\n\nDeadline to register: Monday\, April 2\, 2018\n\nFor more information call: (714) 871-1391
X-ALT-DESC;FMTTYPE=text/html:Have fun while supporting a great cause at the Boys and Girls Clubs of Fullerton 25th Annual Hoby Brenner Charity Golf Tournament. Enjoy a continental breakfast\, golf tournament\, lunch\, dinner\, contests\, and more at this popular event.<br />\nThis event is limited to 144 golfers.&nbsp\;<br />\n<br />\nDeadline to register: Monday\, April 2\, 2018<br />\nFor more information call: (714) 871-1391
LOCATION:Hacienda Golf Course 718 E Road La Habra Heights\, CA 90631
UID:e.887.18193
SEQUENCE:3
DTSTAMP:20260421T232117Z
URL:https://business.nocchamber.com/events/details/boys-girls-clubs-of-fullerton-25th-annual-hoby-brenner-charity-golf-tournament-18193
END:VEVENT

END:VCALENDAR
