BEGIN:VCALENDAR
VERSION:2.0
PRODID:-//ChamberMaster//Event Calendar 2.0//EN
METHOD:PUBLISH
X-PUBLISHED-TTL:P3D
REFRESH-INTERVAL:P3D
CALSCALE:GREGORIAN
BEGIN:VEVENT
DTSTART:20200603T193000Z
DTEND:20200603T203000Z
X-MICROSOFT-CDO-ALLDAYEVENT:FALSE
SUMMARY:BOMA OC's Virtual Town Hall: COVID-19 Legal Matters: What Landlords Need to Know Now
DESCRIPTION:Prior to the COVID-19 pandemic\, the relationship between tenants and landlords was managed by the terms of the lease. Now\, state and local governments have put measures into place that affect the timing and payment of rent\, and in some areas\, even halt evictions. While landlords appear to have fewer options than tenants at this time\, there are a number of strategies that landlords can implement in order to place themselves in the best contractual\, financial and strategic position. Please join our CRE executive panel as they share their experiences and provide guidance and pointers on how to handle this crisis.\n\nTopics to be covered include:\n\n	Addressing tenant concerns in a mutually beneficial manner.\n	Considering long term marketing implications for the property.\n	Government bills\, including SB 939.\n	Unlawful detainers and evictions.\n	The potential need to change lease language.\n	Negotiations\, rent relief\, and repayment.\n	Any incentives for CRE owners.\n	What opportunities are there in the market?\n\n Patrick S. Donahue\, Chairman & CEO\, Donahue Schriber Realty Group\n\nspeaker\n\nRichard L. Seide\, Attorney\, Landlord Representation\, Seide Law\n\nspeaker\n\nMichael Bennett\, Senior Vice President\, Operations\, Irvine Company Office Properties\n\nspeaker\n\nDavid W. Wensley\, Partner\, Cox\, Castle & Nicholson\n\npanelist
X-ALT-DESC;FMTTYPE=text/html:<span style="font-size:12px\;"><span style="font-family:arial\;">Prior to the COVID-19 pandemic\, the relationship between tenants and landlords was managed by the terms of the lease. Now\, state and local governments have put measures into place that affect the timing and payment of rent\, and in some areas\, even halt evictions. While landlords appear to have fewer options than tenants at this time\, there are a number of strategies that landlords can implement in order to place themselves in the best contractual\, financial and strategic position. Please join our CRE executive panel as they share their experiences and provide guidance and pointers on how to handle this crisis.</span><br />\n<span style="font-family:arial\;">Topics to be covered include:</span></span>\n<ul>\n	<li><span style="font-size:12px\;"><span style="font-family:arial\;">Addressing tenant concerns in a mutually beneficial manner.</span></span></li>\n	<li><span style="font-size:12px\;"><span style="font-family:arial\;">Considering long term marketing implications for the property.</span></span></li>\n	<li><span style="font-size:12px\;"><span style="font-family:arial\;">Government bills\, including SB 939.</span></span></li>\n	<li><span style="font-size:12px\;"><span style="font-family:arial\;">Unlawful detainers and evictions.</span></span></li>\n	<li><span style="font-size:12px\;"><span style="font-family:arial\;">The potential need to change lease language.</span></span></li>\n	<li><span style="font-size:12px\;"><span style="font-family:arial\;">Negotiations\, rent relief\, and repayment.</span></span></li>\n	<li><span style="font-size:12px\;"><span style="font-family:arial\;">Any incentives for CRE owners.</span></span></li>\n	<li><span style="font-size:12px\;"><span style="font-family:arial\;">What opportunities are there in the market?</span></span></li>\n</ul>\n<span style="font-size:12px\;"> <span style="font-family:arial\;">Patrick S. Donahue\, Chairman &amp\; CEO\, Donahue Schriber Realty Group<br />\nspeaker</span><br />\n<span style="font-family:arial\;">Richard L. Seide\, Attorney\, Landlord Representation\, Seide Law<br />\nspeaker</span><br />\n<span style="font-family:arial\;">Michael Bennett\, Senior Vice President\, Operations\, Irvine Company Office Properties<br />\nspeaker</span><br />\n<span style="font-family:arial\;">David W. Wensley\, Partner\, Cox\, Castle &amp\; Nicholson<br />\npanelist</span></span>
LOCATION:Online
UID:e.887.24369
SEQUENCE:3
DTSTAMP:20260421T133325Z
URL:https://business.nocchamber.com/events/details/boma-oc-s-virtual-town-hall-covid-19-legal-matters-what-landlords-need-to-know-now-24369
END:VEVENT

END:VCALENDAR
