BEGIN:VCALENDAR
VERSION:2.0
PRODID:-//ChamberMaster//Event Calendar 2.0//EN
METHOD:PUBLISH
X-PUBLISHED-TTL:P3D
REFRESH-INTERVAL:P3D
CALSCALE:GREGORIAN
BEGIN:VEVENT
DTSTART:20191022T003000Z
DTEND:20191022T013000Z
X-MICROSOFT-CDO-ALLDAYEVENT:FALSE
SUMMARY:Boffo Video - Smartphoneography for Social Media
DESCRIPTION:Elevate your business' social media game by using the camera that you own\, your Smartphone. Learn about the types of social media video and film making techniques. \n\n This free class will explain how easy it is to create video for your business' social media page.\nTopics:\n\n 1. Types of videos for social media.\n\n 2. The most efficient gear to use with filming with your phone.\n\n 3. Film making techniques to engage your viewers.\n\n Seats are limited. \n\n Hosted by Paul Santiago.
X-ALT-DESC;FMTTYPE=text/html:<div>Elevate your business&#39\; social media game by using the camera that you own\, your Smartphone.&nbsp\;Learn about the types of social media video and film making techniques.&nbsp\;<br />\n&#8203\;This free class will explain how easy it is to create video for your business&#39\; social media page.</div>\nTopics:<br />\n&#8203\;1. Types of videos for social media.<br />\n&#8203\;2. The most efficient gear to use with filming with&nbsp\;your phone.<br />\n&#8203\;3. Film making techniques to engage your viewers.<br />\n&#8203\;Seats are limited.&nbsp\;<br />\n&#8203\;Hosted by Paul Santiago.<br />\n&nbsp\;
LOCATION:Boffo Video LLC 524 West Commonwealth Avenue Suite G Fullerton\, CA 92832
UID:e.887.23739
SEQUENCE:3
DTSTAMP:20260421T231025Z
URL:https://business.nocchamber.com/events/details/boffo-video-smartphoneography-for-social-media-23739
END:VEVENT

END:VCALENDAR
