BEGIN:VCALENDAR
VERSION:2.0
PRODID:-//ChamberMaster//Event Calendar 2.0//EN
METHOD:PUBLISH
X-PUBLISHED-TTL:P3D
REFRESH-INTERVAL:P3D
CALSCALE:GREGORIAN
BEGIN:VEVENT
DTSTART:20190427T160000Z
DTEND:20190427T180000Z
X-MICROSOFT-CDO-ALLDAYEVENT:FALSE
SUMMARY:Bilingual Vision Care Town Hall
DESCRIPTION:Bilingual Vision Care Town Hall being held in your community\, hosted by the League of United Latin American Citizens (LULAC) and the Mexican American Opportunity Foundation (MOAF). \n\n \n\nEvent: See A Better Future For You & Your Family / Ver un futuro mejor para used y tu familia! \n\nDate and Time: April 27th\, 9 AM - 11 AM\n\nLocation: Richman Elementary School
X-ALT-DESC;FMTTYPE=text/html:Bilingual Vision Care Town Hall being held in your community\, hosted by the League of United Latin American Citizens (LULAC) and the Mexican American Opportunity Foundation (MOAF).&nbsp\;<br />\n&nbsp\;<br />\nEvent: See A Better Future For You &amp\; Your Family / Ver un futuro mejor para used y tu familia!&nbsp\;<br />\nDate and Time: April 27th\, 9 AM - 11 AM<br />\nLocation: Richman Elementary School
LOCATION:Richman Elementary School 700 Richman Avenue Fullerton\, CA 92832
UID:e.887.23131
SEQUENCE:3
DTSTAMP:20260422T065402Z
URL:https://business.nocchamber.com/events/details/bilingual-vision-care-town-hall-23131
END:VEVENT

END:VCALENDAR
