BEGIN:VCALENDAR
VERSION:2.0
PRODID:-//ChamberMaster//Event Calendar 2.0//EN
METHOD:PUBLISH
X-PUBLISHED-TTL:P3D
REFRESH-INTERVAL:P3D
CALSCALE:GREGORIAN
BEGIN:VEVENT
DTSTART:20180330T180000Z
DTEND:20180330T210000Z
X-MICROSOFT-CDO-ALLDAYEVENT:FALSE
SUMMARY:Berger Moving & Storage Ribbon Cutting
DESCRIPTION:Join us for a ribbon cutting ceremony to celebrate the grand opening of Berger Moving and Storage in Fullerton. Attendees are invited to meet their staff\, take an inside look at the operations of a moving and storage company\, and even sit inside one of their moving trucks!\n\n\n\nLunch\, a raffle for various prizes\, and a candy buffet with take-home items will be provided. This is a kid friendly event.
X-ALT-DESC;FMTTYPE=text/html:Join us for a ribbon cutting ceremony to celebrate the grand opening of <a href="https://www.bergerallied.com/" target="_blank"><font color="#0066cc">Berger Moving and Storage </font></a>in Fullerton. Attendees are invited to&nbsp\;meet their staff\, take an inside look at the operations of a moving and storage company\, and even sit inside one of their moving trucks!<br />\n<br />\nLunch\, a raffle for various prizes\, and a candy buffet with take-home items will be provided.&nbsp\;This is a kid friendly event.
LOCATION:Berger Moving and Storage 1400 Manhattan Ave. Fullerton\, CA 92831
UID:e.887.17776
SEQUENCE:3
DTSTAMP:20260422T002703Z
URL:https://business.nocchamber.com/events/details/berger-moving-storage-ribbon-cutting-17776
END:VEVENT

END:VCALENDAR
