BEGIN:VCALENDAR
VERSION:2.0
PRODID:-//ChamberMaster//Event Calendar 2.0//EN
METHOD:PUBLISH
X-PUBLISHED-TTL:P3D
REFRESH-INTERVAL:P3D
CALSCALE:GREGORIAN
BEGIN:VEVENT
DTSTART:20190516T170000Z
DTEND:20190516T190000Z
X-MICROSOFT-CDO-ALLDAYEVENT:FALSE
SUMMARY:Basic Sales and Use Tax Class
DESCRIPTION:These recurring classes will provide a basic overview of sales and use taxes. The CDTFA staff will be able to answer your questions as they relate to your business/industry.\n\n\n\nGain an understanding of sales and use tax\, district tax\, taxable and nontaxable labor\, as well as foreign and interstate taxability. Learn if you need a seller's permit and how to complete a resale certificate.
X-ALT-DESC;FMTTYPE=text/html:These recurring classes will provide a basic overview of sales and use taxes. The CDTFA staff will be able to answer your questions as they relate to your business/industry.<br />\n<br />\nGain an understanding of sales and use tax\, district tax\, taxable and nontaxable labor\, as well as foreign and interstate taxability. Learn if you need a seller&#39\;s permit and how to complete a resale certificate.
LOCATION:CDTFA - Irvine Office 16715 Von Karman Ave\, Suite 175 Irvine\, CA 92606
UID:e.887.23296
SEQUENCE:3
DTSTAMP:20260422T053102Z
URL:https://business.nocchamber.com/events/details/basic-sales-and-use-tax-class-23296
END:VEVENT

END:VCALENDAR
