BEGIN:VCALENDAR
VERSION:2.0
PRODID:-//ChamberMaster//Event Calendar 2.0//EN
METHOD:PUBLISH
X-PUBLISHED-TTL:P3D
REFRESH-INTERVAL:P3D
CALSCALE:GREGORIAN
BEGIN:VEVENT
DTSTART:20180303T180000Z
DTEND:20180305T000000Z
X-MICROSOFT-CDO-ALLDAYEVENT:FALSE
SUMMARY:Auditions for Buena Park Youth Theatre's Production of Once on This Island
DESCRIPTION:Calling all young performers: audition for Buena Park Youth Theatre's Production of Once on This Island.
X-ALT-DESC;FMTTYPE=text/html:Calling all young performers: audition for Buena Park Youth Theatre&#39\;s Production of Once on This Island.<br />\n&nbsp\;
LOCATION:Ehlers Event Center 8150 Knott Avenue Buena Park\, CA 90620
UID:e.887.17777
SEQUENCE:3
DTSTAMP:20260421T213803Z
URL:https://business.nocchamber.com/events/details/auditions-for-buena-park-youth-theatre-s-production-of-once-on-this-island-17777
END:VEVENT

END:VCALENDAR
