BEGIN:VCALENDAR
VERSION:2.0
PRODID:-//ChamberMaster//Event Calendar 2.0//EN
METHOD:PUBLISH
X-PUBLISHED-TTL:P3D
REFRESH-INTERVAL:P3D
CALSCALE:GREGORIAN
BEGIN:VEVENT
DTSTART:20191113T173000Z
DTEND:20191116T220000Z
X-MICROSOFT-CDO-ALLDAYEVENT:FALSE
SUMMARY:Assistance League of Fullerton Christmas Boutique
DESCRIPTION:Assistance League of Fullerton's annual Christmas Boutique featuring an amazing array of quality holiday items including gently used holiday d cor\, Christmas sweaters\, vintage ornaments\, artificial trees\, lights\, linens\, tableware\, nativity scenes\, gift bags\, cookie tins\, and new toys.\n\n\n\nAll proceeds benefit Assistance League philanthropic programs.  Assistance League of Fullerton is an all-volunteer\, non-profit organization with a focus on serving families and children in need  and whose primary funding source is its Thrift Shop.  Donations are always welcome.
X-ALT-DESC;FMTTYPE=text/html:Assistance League of Fullerton&#39\;s annual&nbsp\;<strong>Christmas Boutique&nbsp\;</strong>featuring an amazing array of quality holiday items including gently used holiday d&eacute\;cor\, Christmas sweaters\, vintage ornaments\, artificial trees\, lights\, linens\, tableware\, nativity scenes\, gift bags\, cookie tins\, and new toys.<br />\n<br />\nAll proceeds benefit Assistance League philanthropic programs.&nbsp\; Assistance League of Fullerton is an all-volunteer\, non-profit organization with a focus on serving families and children in need&nbsp\; and whose primary funding source is its Thrift Shop.&nbsp\; Donations are always welcome.<br />\n&nbsp\;<br />\n&nbsp\;
LOCATION:Assistance League Meeting Hall 233 W. Amerige Avenue Fullerton\, CA 92832
UID:e.887.23744
SEQUENCE:3
DTSTAMP:20260421T215112Z
URL:https://business.nocchamber.com/events/details/assistance-league-of-fullerton-christmas-boutique-11-13-2019-23744
END:VEVENT

END:VCALENDAR
