BEGIN:VCALENDAR
VERSION:2.0
PRODID:-//ChamberMaster//Event Calendar 2.0//EN
METHOD:PUBLISH
X-PUBLISHED-TTL:P3D
REFRESH-INTERVAL:P3D
CALSCALE:GREGORIAN
BEGIN:VEVENT
DTSTART:20180825T200000Z
DTEND:20180825T220000Z
X-MICROSOFT-CDO-ALLDAYEVENT:FALSE
SUMMARY:Assemblywoman Sharon Quirk-Silva in partnership with the Boy Scouts - Free Recycling Event
DESCRIPTION:Assemblywoman Sharon Quirk-Silva and the Boy Scouts will be partnering to host a Free Recycling Event on Saturday\, August 25\, 2018 from 1:00 p.m. to 3:00 p.m. at Morningside Presbyterian Church.\n\nThis will be an opportunity for the community to drop off recycling items and discuss legislative issues that affect the community.\n\nThe following are acceptable for recycling:\n\n	Televisions/Monitors\n	Computers/Laptops\n	Computer Components\n	Printers/Copiers/Scanners\n	Servers\n	Telephones/Cell Phones\n	Fax Machines\n	iPods/MP3 Players\n	Gaming systems\n	Calculators\n	Typewriters/ Keyboards/ Mice\n	UPS/Power Supplies\n	Cable Boxes/ Misc. Cables\n	Sound Equipment\n	DVD/VCR Players\n	Satellite Equipment\n	All electronics in any condition
X-ALT-DESC;FMTTYPE=text/html:Assemblywoman Sharon Quirk-Silva and the Boy Scouts will be partnering to host a <strong>Free Recycling Event</strong> on Saturday\, August 25\, 2018 from 1:00 p.m. to 3:00 p.m. at Morningside Presbyterian Church.<br />\nThis will be an opportunity for the community to drop off recycling items and discuss legislative issues that affect the community.<br />\nThe following are acceptable for recycling:\n<ul>\n	<li>Televisions/Monitors</li>\n	<li>Computers/Laptops</li>\n	<li>Computer Components</li>\n	<li>Printers/Copiers/Scanners</li>\n	<li>Servers</li>\n	<li>Telephones/Cell Phones</li>\n	<li>Fax Machines</li>\n	<li>iPods/MP3 Players</li>\n	<li>Gaming systems</li>\n	<li>Calculators</li>\n	<li>Typewriters/ Keyboards/ Mice</li>\n	<li>UPS/Power Supplies</li>\n	<li>Cable Boxes/ Misc. Cables</li>\n	<li>Sound Equipment</li>\n	<li>DVD/VCR Players</li>\n	<li>Satellite Equipment</li>\n	<li>All electronics in any condition</li>\n</ul>\n
LOCATION:Morningside Presbyterian Church 1201 Dorothy Lane Fullerton\, CA 92831
UID:e.887.22629
SEQUENCE:3
DTSTAMP:20260422T092526Z
URL:https://business.nocchamber.com/events/details/assemblywoman-sharon-quirk-silva-in-partnership-with-the-boy-scouts-free-recycling-event-22629
END:VEVENT

END:VCALENDAR
