BEGIN:VCALENDAR
VERSION:2.0
PRODID:-//ChamberMaster//Event Calendar 2.0//EN
METHOD:PUBLISH
X-PUBLISHED-TTL:P3D
REFRESH-INTERVAL:P3D
CALSCALE:GREGORIAN
BEGIN:VEVENT
DTSTART:20191107T153000Z
DTEND:20191107T163000Z
X-MICROSOFT-CDO-ALLDAYEVENT:FALSE
SUMMARY:Assemblywoman Sharon Quirk-Silva: Breakfast Club
DESCRIPTION:Join Assemblywoman Sharon Quirk-Silva for a continental breakfast and conversation about the issues affecting California\, from an insider's perspective with California's State Controller Betty Yee.  \n\nThere will be a food drive to help Orange County families. Canned food donations are welcome.\n\nRSVP to 714-525-6515 or asmdc.org/ht.
X-ALT-DESC;FMTTYPE=text/html:<p>Join Assemblywoman Sharon Quirk-Silva for a&nbsp\;continental breakfast&nbsp\;and conversation about the issues affecting California\, from an insider&rsquo\;s perspective with California&#39\;s State Controller Betty Yee.&nbsp\;&nbsp\;</p>\n\n<p>There will be a food drive to help Orange County families. Canned food donations are welcome.</p>\n\n<p>RSVP&nbsp\;to 714-525-6515 or <a href="http://asmdc.org/ht">asmdc.org/ht</a>.&nbsp\;&nbsp\;</p>\n
LOCATION:Ehlers Event Center 8150 Knott Avenue Buena Park\, CA 90620
UID:e.887.23789
SEQUENCE:3
DTSTAMP:20260421T214537Z
URL:https://business.nocchamber.com/events/details/assemblywoman-sharon-quirk-silva-breakfast-club-23789
END:VEVENT

END:VCALENDAR
