BEGIN:VCALENDAR
VERSION:2.0
PRODID:-//ChamberMaster//Event Calendar 2.0//EN
METHOD:PUBLISH
X-PUBLISHED-TTL:P3D
REFRESH-INTERVAL:P3D
CALSCALE:GREGORIAN
BEGIN:VEVENT
DTSTART:20190920T143000Z
DTEND:20190920T153000Z
X-MICROSOFT-CDO-ALLDAYEVENT:FALSE
SUMMARY:Assemblywoman Sharon Quirk-Silva: Breakfast Club
DESCRIPTION:Join Assemblywoman Sharon Quirk-Silva for a continental breakfast and conversation about the issues affecting California\, from an insider's perspective\, with none other than Gabriel Petek\, California's nonpartisan Legislative Analyst.\n\nThis no charge event will be held Friday\, September 20 at the Stanton Civic Center from 7:30 a.m. - 8:30 a.m. \n\nRSVP to 714-525-6515.
X-ALT-DESC;FMTTYPE=text/html:<p>Join Assemblywoman Sharon Quirk-Silva for a&nbsp\;continental breakfast&nbsp\;and conversation about the issues affecting California\, from an insider&rsquo\;s perspective\, with none other than Gabriel Petek\, California&rsquo\;s nonpartisan Legislative Analyst.</p>\n\n<p>This no charge <a href="https://youtu.be/3wKImxeSwk8" target="_blank">event</a>&nbsp\;will be held Friday\, September 20 at the Stanton Civic Center from 7:30 a.m. - 8:30 a.m.&nbsp\;</p>\n\n<p>RSVP&nbsp\;to 714-525-6515.</p>\n
LOCATION:Stanton Civic Center 7800 Katella Avenue Stanton\, CA 90680
UID:e.887.23709
SEQUENCE:3
DTSTAMP:20260422T002230Z
URL:https://business.nocchamber.com/events/details/assemblywoman-sharon-quirk-silva-breakfast-club-23709
END:VEVENT

END:VCALENDAR
