BEGIN:VCALENDAR
VERSION:2.0
PRODID:-//ChamberMaster//Event Calendar 2.0//EN
METHOD:PUBLISH
X-PUBLISHED-TTL:P3D
REFRESH-INTERVAL:P3D
CALSCALE:GREGORIAN
BEGIN:VEVENT
DTSTART:20180824T143000Z
DTEND:20180824T153000Z
X-MICROSOFT-CDO-ALLDAYEVENT:FALSE
SUMMARY:Assemblywoman Sharon Quirk-Silva - Breakfast Club
DESCRIPTION:Assemblywoman Sharon Quirk-Silva will be hosting a Breakfast Club for continental breakfast and conversation regarding issues affecting California from an insider's perspective with Betty Yee\, California State Controller.
X-ALT-DESC;FMTTYPE=text/html:<span style="background:white\;"><span style="color:#333333\;"><span style="font-family:arial\,sans-serif\;"><span style="font-size:10.0pt\;">Assemblywoman Sharon Quirk-Silva</span></span></span></span> will be hosting a <strong>Breakfast Club</strong> for continental breakfast and conversation regarding issues affecting California from an insider&rsquo\;s perspective with Betty Yee\, California State Controller.
LOCATION:City of La Palma (Community Center) 7821 Walker St. La Palma\, CA 90623
UID:e.887.22651
SEQUENCE:3
DTSTAMP:20260422T091449Z
URL:https://business.nocchamber.com/events/details/assemblywoman-sharon-quirk-silva-breakfast-club-22651
END:VEVENT

END:VCALENDAR
