BEGIN:VCALENDAR
VERSION:2.0
PRODID:-//ChamberMaster//Event Calendar 2.0//EN
METHOD:PUBLISH
X-PUBLISHED-TTL:P3D
REFRESH-INTERVAL:P3D
CALSCALE:GREGORIAN
BEGIN:VEVENT
DTSTART:20200731T170000Z
DTEND:20200731T180000Z
X-MICROSOFT-CDO-ALLDAYEVENT:FALSE
SUMMARY:Assemblywoman Quirk-Silva Hosts Public Safety Town Hall
DESCRIPTION:Assemblywoman Quirk-Silva is hosting a Public Safety Town Hall with leaders from Assembly District 65.\n\nPlease join the Assemblywoman as she hosts a discussion with the following participants: \n\n\n\n	Orange County Mosquito and Vector Control - Lora Young\n	Fullerton Fire Department - Chief Adam Loeser\n	Orange County Fire Authority - Division Chief Shane Sherwood\n	Fullerton Police Department - Acting Captain Jose Arana\n	Anaheim Police Department - Chief Jorge Cisneros\n	Buena Park Police and North Orange County Public Safety Task Force - Chief Cory Sianez\n	Orange County Sheriff's Department - Sheriff Don Barnes\n\n\n\nIf you would like to ask a question\, you may do so prior to the zoom meeting by emailing your questions to Josef.Holper@asm.ca.gov or you may do so in the chat box during the event.
X-ALT-DESC;FMTTYPE=text/html:<div background-color:="" caret-color:="" color:="" font-size:="" font-stretch:="" helvetica="" line-height:="" segoe="" ui="" vertical-align:="" web="" west="">Assemblywoman Quirk-Silva is hosting a Public Safety Town Hall with leaders from Assembly District 65.</div>\n\n<div background-color:="" caret-color:="" color:="" font-size:="" font-stretch:="" helvetica="" line-height:="" segoe="" ui="" vertical-align:="" web="" west="">Please join the Assemblywoman as she hosts a discussion with the following participants:&nbsp\;</div>\n\n<div background-color:="" caret-color:="" color:="" font-size:="" font-stretch:="" helvetica="" line-height:="" segoe="" ui="" vertical-align:="" web="" west="">\n<ul>\n	<li>Orange County Mosquito and Vector Control - Lora Young</li>\n	<li>Fullerton Fire Department - Chief Adam Loeser</li>\n	<li>Orange County Fire Authority - Division Chief Shane Sherwood</li>\n	<li>Fullerton Police Department - Acting Captain Jose Arana</li>\n	<li>Anaheim Police Department - Chief Jorge Cisneros</li>\n	<li>Buena Park Police and North Orange County Public Safety Task Force - Chief Cory Sianez</li>\n	<li>Orange County Sheriff&#39\;s Department - Sheriff Don Barnes</li>\n</ul>\n</div>\n\n<div background-color:="" caret-color:="" color:="" font-size:="" font-stretch:="" helvetica="" line-height:="" segoe="" ui="" vertical-align:="" web="" west="">If you would like to ask a question\, you may do so prior to the zoom meeting by emailing your questions to&nbsp\;<a data-auth="NotApplicable" href="https://lcmspubcontact.lc.ca.gov/PublicLCMS/LinkTracking.php?id=529003&amp\;eaid=601088&amp\;url=mailto%3AJosef.Holper%40asm.ca.gov&amp\;tid=AD65C832158063" rel="noopener noreferrer" target="_blank">Josef.Holper@asm.ca.gov</a>&nbsp\;or you may do so in the chat box during the event.</div>\n
LOCATION:Via Zoom
UID:e.887.24544
SEQUENCE:3
DTSTAMP:20260421T120255Z
URL:https://business.nocchamber.com/events/details/assemblywoman-quirk-silva-hosts-public-safety-town-hall-24544
END:VEVENT

END:VCALENDAR
