BEGIN:VCALENDAR
VERSION:2.0
PRODID:-//ChamberMaster//Event Calendar 2.0//EN
METHOD:PUBLISH
X-PUBLISHED-TTL:P3D
REFRESH-INTERVAL:P3D
CALSCALE:GREGORIAN
BEGIN:VEVENT
DTSTART:20181213T010000Z
DTEND:20181213T030000Z
X-MICROSOFT-CDO-ALLDAYEVENT:FALSE
SUMMARY:Assemblyman Steven S.Choi - Winter 2018 Holiday Open House
DESCRIPTION:Assemblyman Steven S. Choi\, Ph.D. hosts his Winter 2018 Holiday Open House for networking with community leaders. Light appetizers and refreshments will be provided. In the spirit of giving\, bring one can of non-perishable food to be donated to Second Harvest Food Bank.
X-ALT-DESC;FMTTYPE=text/html:Assemblyman Steven S. Choi\, Ph.D. hosts his Winter 2018 Holiday Open House for networking with community leaders. Light appetizers and refreshments will be provided. In the spirit of giving\, bring one can of non-perishable food to be donated to Second&nbsp\;Harvest Food Bank.
LOCATION:Irvine District Office 3240 El Camino Real\, St. 110 Irvine\, CA 92602
UID:e.887.22853
SEQUENCE:3
DTSTAMP:20260422T115130Z
URL:https://business.nocchamber.com/events/details/assemblyman-steven-s-choi-winter-2018-holiday-open-house-22853
END:VEVENT

END:VCALENDAR
