BEGIN:VCALENDAR
VERSION:2.0
PRODID:-//ChamberMaster//Event Calendar 2.0//EN
METHOD:PUBLISH
X-PUBLISHED-TTL:P3D
REFRESH-INTERVAL:P3D
CALSCALE:GREGORIAN
BEGIN:VEVENT
DTSTART:20200529T223000Z
DTEND:20200529T230000Z
X-MICROSOFT-CDO-ALLDAYEVENT:FALSE
SUMMARY:Are You Ready To Open - Restaurant Industry
DESCRIPTION:Join the OC Health Care Agency and Orange County Business Council for a discussion around the recent Health Officer Order and what it means for your business.\n\n\n\nPlease RSVP to ETeam@ochca.com for meeting information.
X-ALT-DESC;FMTTYPE=text/html:Join the OC Health Care Agency and Orange County Business Council for a discussion around the recent Health Officer Order and what it means for your business.<br />\n<br />\nPlease RSVP to&nbsp\;<a href="mailto:ETeam@ochca.com">ETeam@ochca.com</a>&nbsp\;for meeting information.
LOCATION:Virtual
UID:e.887.24367
SEQUENCE:3
DTSTAMP:20260421T144023Z
URL:https://business.nocchamber.com/events/details/are-you-ready-to-open-restaurant-industry-24367
END:VEVENT

END:VCALENDAR
