BEGIN:VCALENDAR
VERSION:2.0
PRODID:-//ChamberMaster//Event Calendar 2.0//EN
METHOD:PUBLISH
X-PUBLISHED-TTL:P3D
REFRESH-INTERVAL:P3D
CALSCALE:GREGORIAN
BEGIN:VEVENT
DTSTART:20200131T183000Z
DTEND:20200131T193000Z
X-MICROSOFT-CDO-ALLDAYEVENT:FALSE
SUMMARY:ARCO am pm - City of Stanton Ribbon Cutting
DESCRIPTION:Join us in celebrating the ribbon cutting ceremony for ARCO am pm in the City of Stanton.\n\n\n\nLive performance by the Clippers Spirit from 11:30 a.m. - 1:30 p.m.\n\n\n\nGrand opening specials include:\n\nFree car wash (January 28th - January 31st)\n\nGrand opening raffles and prizes!
X-ALT-DESC;FMTTYPE=text/html:Join us in celebrating the ribbon cutting ceremony for <strong>ARCO am pm</strong> in the City of Stanton.<br />\n<br />\nLive performance by the Clippers Spirit from 11:30 a.m. - 1:30 p.m.<br />\n<br />\nGrand opening specials include:<br />\nFree car wash (January 28th - January 31st)<br />\nGrand opening raffles and prizes!
LOCATION:ARCO am pm 11460 Beach Blvd. Stanton\, CA 90680
UID:e.887.24084
SEQUENCE:3
DTSTAMP:20260421T191720Z
URL:https://business.nocchamber.com/events/details/arco-am-pm-city-of-stanton-ribbon-cutting-24084
END:VEVENT

END:VCALENDAR
