BEGIN:VCALENDAR
VERSION:2.0
PRODID:-//ChamberMaster//Event Calendar 2.0//EN
METHOD:PUBLISH
X-PUBLISHED-TTL:P3D
REFRESH-INTERVAL:P3D
CALSCALE:GREGORIAN
BEGIN:VEVENT
DTSTART:20180310T180000Z
DTEND:20180310T200000Z
X-MICROSOFT-CDO-ALLDAYEVENT:FALSE
SUMMARY:Arborland's 30th Anniversary Celebration
DESCRIPTION:Arborland Montessori Children's Academy is hosting a Children's Fair\, open to the public\, in honor of their 30th Anniversary.\n\n\n\nTo celebrate 30 years of serving families and developing future leaders\, Arborland is hosting a day of free activities and entertainment for everyone to enjoy. Arborland is welcoming the community to join the 30th Anniversary Children's Fair featuring food\, games\, music\, crafts\, a petting zoo\, prizes and fun for the entire family to enjoy.\n\n\n\nThe Fair will be held on Saturday\, March 10\, from 10:00 a.m.   12:00 p.m. at the Arborland Hughes Campus located at\, 2121 Hughes Drive\, Fullerton CA 92833.
X-ALT-DESC;FMTTYPE=text/html:<p>Arborland Montessori Children&rsquo\;s Academy is hosting a Children&rsquo\;s Fair\, open to the public\, in honor of their 30th Anniversary.<br />\n<br />\nTo celebrate 30 years of serving families and developing future leaders\,&nbsp\;Arborland&nbsp\;is hosting a day of free activities and entertainment for everyone to enjoy. Arborland is welcoming the community to join the&nbsp\;30th&nbsp\;Anniversary Children&#39\;s Fair featuring food\, games\, music\, crafts\, a petting zoo\, prizes and fun for the entire family to enjoy.<br />\n<br />\nThe Fair will be held on Saturday\, March 10\, from 10:00 a.m. &ndash\; 12:00 p.m. at the Arborland Hughes Campus located at\, 2121 Hughes Drive\, Fullerton CA 92833.</p>\n
LOCATION:Arborland Montessori Children's Academy 2121 Hughes Drive Fullerton\, CA 92833
UID:e.887.16286
SEQUENCE:3
DTSTAMP:20260421T230937Z
URL:https://business.nocchamber.com/events/details/arborland-s-30th-anniversary-celebration-16286
END:VEVENT

END:VCALENDAR
