BEGIN:VCALENDAR
VERSION:2.0
PRODID:-//ChamberMaster//Event Calendar 2.0//EN
METHOD:PUBLISH
X-PUBLISHED-TTL:P3D
REFRESH-INTERVAL:P3D
CALSCALE:GREGORIAN
BEGIN:VEVENT
DTSTART:20210615T220000Z
DTEND:20210615T230000Z
X-MICROSOFT-CDO-ALLDAYEVENT:FALSE
SUMMARY:Anytime Fitness La Palma Ribbon Cutting
DESCRIPTION:Join us to celebrate the opening of Anytime Fitness La Palma with a ribbon cutting. \n\n\n\nAnytime Fitness La Palma's mission is to provide you with a total fitness experience designed to help you reach your goals. A healthy lifestyle doesn't start and stop at the gym it starts with a plan\, which is why they offer solutions that incorporate fitness\, nutrition and recovery to provide a 360 approach to your wellness journey.
X-ALT-DESC;FMTTYPE=text/html:<div>Join us to celebrate the opening of <strong><a href="https://www.anytimefitness.com/gyms/4819/la-palma-ca-90623/" target="_blank">Anytime Fitness La Palma</a></strong>&nbsp\;with a ribbon cutting.&nbsp\;</div>\n\n<div><br />\nAnytime Fitness La Palma&#39\;s mission is to provide you with a total fitness experience designed to help you reach your goals. A healthy lifestyle doesn&rsquo\;t start and stop at the gym&mdash\;it starts with a plan\, which is why they offer solutions that incorporate fitness\, nutrition and recovery to provide a 360 approach to your wellness journey.</div>\n
LOCATION:
UID:e.887.25400
SEQUENCE:3
DTSTAMP:20260422T214827Z
URL:https://business.nocchamber.com/events/details/anytime-fitness-la-palma-ribbon-cutting-25400
END:VEVENT

END:VCALENDAR
