BEGIN:VCALENDAR
VERSION:2.0
PRODID:-//ChamberMaster//Event Calendar 2.0//EN
METHOD:PUBLISH
X-PUBLISHED-TTL:P3D
REFRESH-INTERVAL:P3D
CALSCALE:GREGORIAN
BEGIN:VEVENT
DTSTART:20180916T010000Z
DTEND:20180916T040000Z
X-MICROSOFT-CDO-ALLDAYEVENT:FALSE
SUMMARY:Annual Gala S.S. Muckenthaler: Adventure on the Nile
DESCRIPTION:The Muckenthaler is hosting their Annual S.S. Muckenthaler Adventure on the Nile on Saturday\, September 15\, 2018 at 6:00 p.m. The event will be themed in the 1930's\, featuring Janet Klein with Tim Gill and His All-Star Swing Band. The event will include dinner\, cocktails\, dancing\, and an auction.
X-ALT-DESC;FMTTYPE=text/html:<span style="background:white\;"><span style="color:black\;"><span style="font-family:arial\,sans-serif\;">The Muckenthaler is hosting their <strong>Annual S.S. Muckenthaler Adventure on the Nile</strong> on Saturday\, September 15\, 2018 at 6:00 p.m. The event will be themed in the 1930&#39\;s\, featuring Janet Klein with Tim Gill and His All-Star Swing Band. The event will include dinner\, cocktails\, dancing\, and an auction. </span></span></span><br />\n&nbsp\;
LOCATION:Muckenthaler Cultural Center 1201 West Malvern Ave. Fullerton\, CA 92833
UID:e.887.22589
SEQUENCE:3
DTSTAMP:20260422T143011Z
URL:https://business.nocchamber.com/events/details/annual-gala-s-s-muckenthaler-adventure-on-the-nile-22589
END:VEVENT

END:VCALENDAR
