BEGIN:VCALENDAR
VERSION:2.0
PRODID:-//ChamberMaster//Event Calendar 2.0//EN
METHOD:PUBLISH
X-PUBLISHED-TTL:P3D
REFRESH-INTERVAL:P3D
CALSCALE:GREGORIAN
BEGIN:VEVENT
DTSTART:20191207T160000Z
DTEND:20191207T220000Z
X-MICROSOFT-CDO-ALLDAYEVENT:FALSE
SUMMARY:Anaheim - City to Sea Community College Faculty Job Summit
DESCRIPTION:Seven community college districts throughout Orange County and Los Angeles have partnered to present the City to Sea Community College Faculty Job Summit. The half-day summit will entail engaging workshops\, step-by-step application assistance\, resume review\, presentation tips and tricks\, mock interviews\, upcoming job opportunities\, and the chance to meet and greet with existing faculty members.
X-ALT-DESC;FMTTYPE=text/html:Seven community college districts throughout Orange County and Los Angeles have partnered to present the City to Sea Community College Faculty Job Summit. The half-day summit will entail engaging workshops\, step-by-step application assistance\, resume review\, presentation tips and tricks\, mock interviews\, upcoming job opportunities\, and the chance to meet and greet with existing faculty members.
LOCATION:Anaheim Majestic Garden Hotel 900 South Disneyland Dr. Anaheim\, CA 92802
UID:e.887.23811
SEQUENCE:3
DTSTAMP:20260421T203813Z
URL:https://business.nocchamber.com/events/details/anaheim-city-to-sea-community-college-faculty-job-summit-23811
END:VEVENT

END:VCALENDAR
