BEGIN:VCALENDAR
VERSION:2.0
PRODID:-//ChamberMaster//Event Calendar 2.0//EN
METHOD:PUBLISH
X-PUBLISHED-TTL:P3D
REFRESH-INTERVAL:P3D
CALSCALE:GREGORIAN
BEGIN:VEVENT
DTSTART:20170604T030000Z
DTEND:20170604T060000Z
X-MICROSOFT-CDO-ALLDAYEVENT:FALSE
SUMMARY:An Evening of Magic with Evan Disney
DESCRIPTION:Bring your family\, friends\, enemies\, and allies to a unique night of entertainment with Evan Disney\, the Magician On A Mission! Enjoy highly interactive\, mind-blowing magic from a personality that can't be matched. Fun for everyone\, lots of involvement from the audience\, and a chance to win an invitation to The World Famous Magic Castle in Hollywood!\n\n\n\nPresented By:\n\nEvan Disney's Magical Entertainment\n\nContact: Terecita Baker\, Business Director\n\n(850) 36-MAGIC\n\nTeamDisney@evandisneymagic.com\n\nwww.evandisneymagic.com\n\nwww.facebook.com/evandisney
X-ALT-DESC;FMTTYPE=text/html:<p><span style="color:rgb(75\, 79\, 86)\; font-family:helvetica\,arial\,sans-serif\; font-size:14px">Bring your family\, friends\, enemies\, and allies to a unique night of entertainment with Evan Disney\, the Magician On A Mission! Enjoy highly interactive\, mind-blowing magic from a personality that can&#39\;t be matched. Fun for everyone\, lots of involvement from the audience\, and a chance to win an invitation to The World Famous Magic Castle in Hollywood!</span><br />\n<br />\n<span style="color:rgb(75\, 79\, 86)\; font-family:helvetica\,arial\,sans-serif\; font-size:14px">Presented By:</span></p>\n\n<p><span style="color:rgb(75\, 79\, 86)\; font-family:helvetica\,arial\,sans-serif\; font-size:14px">Evan Disney&#39\;s Magical Entertainment<br />\nContact: Terecita Baker\, Business Director<br />\n(850) 36-MAGIC<br />\nTeamDisney@evandisneymagic.com<br />\nwww.evandisneymagic.com<br />\nwww.facebook.com/evandisney</span><br />\n&nbsp\;</p>\n
LOCATION:Fullerton SDA Church 2355 Valencia Drive Fullerton\, CA 92833
UID:e.887.16134
SEQUENCE:3
DTSTAMP:20260421T014900Z
URL:https://business.nocchamber.com/events/details/an-evening-of-magic-with-evan-disney-16134
END:VEVENT

END:VCALENDAR
