BEGIN:VCALENDAR
VERSION:2.0
PRODID:-//ChamberMaster//Event Calendar 2.0//EN
METHOD:PUBLISH
X-PUBLISHED-TTL:P3D
REFRESH-INTERVAL:P3D
CALSCALE:GREGORIAN
BEGIN:VEVENT
DTSTART:20190412T023000Z
DTEND:20190412T043000Z
X-MICROSOFT-CDO-ALLDAYEVENT:FALSE
SUMMARY:An Evening Aboard The Titanic
DESCRIPTION:Hear the exact songs the Titanic Orchestra played from the White Star Lines' songbook. Mingle with the passengers and crew and immerse yourself in the experience. Stroll 'on deck'\, enjoy live classical music\, and chat with personalities from the Titanic. This is a special night of reenactments and interactive set designs. Vintage attire is encouraged.
X-ALT-DESC;FMTTYPE=text/html:Hear the exact songs the Titanic Orchestra played from the White Star Lines&#39\; songbook. Mingle with the passengers and crew and immerse yourself in the experience. Stroll &#39\;on deck&#39\;\, enjoy live classical music\, and chat with personalities from the Titanic. This is a special night of reenactments and interactive set designs. Vintage attire is encouraged.
LOCATION:Muckenthaler Cultural Center 1201 W. Malvern Ave Fulleton\, CA 92833
UID:e.887.23120
SEQUENCE:3
DTSTAMP:20260422T065335Z
URL:https://business.nocchamber.com/events/details/an-evening-aboard-the-titanic-23120
END:VEVENT

END:VCALENDAR
