BEGIN:VCALENDAR
VERSION:2.0
PRODID:-//ChamberMaster//Event Calendar 2.0//EN
METHOD:PUBLISH
X-PUBLISHED-TTL:P3D
REFRESH-INTERVAL:P3D
CALSCALE:GREGORIAN
BEGIN:VEVENT
DTSTART:20200211T180000Z
DTEND:20200211T190000Z
X-MICROSOFT-CDO-ALLDAYEVENT:FALSE
SUMMARY:American First Credit Union Ribbon Cutting
DESCRIPTION:Join us in a ribbon cutting ceremony in celebration of American First Credit Union's new location in Fullerton.
X-ALT-DESC;FMTTYPE=text/html:Join us in a ribbon cutting ceremony in celebration of <a href="https://www.amerfirst.org/Home.aspx" target="_blank">American First Credit Union</a>'s new location in Fullerton.&nbsp\;
LOCATION:4180 N. Harbor Blvd.\, #A Fullerton\, CA 92835
UID:e.887.24053
SEQUENCE:3
DTSTAMP:20260421T182127Z
URL:https://business.nocchamber.com/events/details/american-first-credit-union-ribbon-cutting-24053
END:VEVENT

END:VCALENDAR
