BEGIN:VCALENDAR
VERSION:2.0
PRODID:-//ChamberMaster//Event Calendar 2.0//EN
METHOD:PUBLISH
X-PUBLISHED-TTL:P3D
REFRESH-INTERVAL:P3D
CALSCALE:GREGORIAN
BEGIN:VEVENT
DTSTART:20200128T010000Z
DTEND:20200128T020000Z
X-MICROSOFT-CDO-ALLDAYEVENT:FALSE
SUMMARY:American First Credit Union $50\,000 Cash Prize Winner Celebration
DESCRIPTION:Join American First Credit Union in their announcement of their $50\,000 cash prize winner on Monday\, January 27 at 5:00 p.m. Read more about the program here.
X-ALT-DESC;FMTTYPE=text/html:Join American First Credit Union in&nbsp\;their announcement of their $50\,000 cash prize winner on Monday\, January 27 at 5:00 p.m. Read more about the program <a href="http://www.nocchamber.com/news/details/credit-union-will-be-awarding-a-50-000-grand-prize-to-a-lucky-saver" target="_blank">here</a>.
LOCATION:American First Credit Union Harbor & Imperial Branch 4180 N. Harbor Blvd.\, Suite A Fullerton\, CA 92835
UID:e.887.24078
SEQUENCE:3
DTSTAMP:20260421T191730Z
URL:https://business.nocchamber.com/events/details/american-first-credit-union-50-000-cash-prize-winner-celebration-24078
END:VEVENT

END:VCALENDAR
