BEGIN:VCALENDAR
VERSION:2.0
PRODID:-//ChamberMaster//Event Calendar 2.0//EN
METHOD:PUBLISH
X-PUBLISHED-TTL:P3D
REFRESH-INTERVAL:P3D
CALSCALE:GREGORIAN
BEGIN:VEVENT
DTSTART:20190601T160000Z
DTEND:20190602T160000Z
X-MICROSOFT-CDO-ALLDAYEVENT:FALSE
SUMMARY:American Cancer Society Relay for Life
DESCRIPTION:Relay for Life is an annual\, 24-hour\, community event to celebrate survivors\, remember those lost\, and fight back against disease that has taken too much\, from too many.
X-ALT-DESC;FMTTYPE=text/html:Relay for Life is an annual\, 24-hour\, community event to celebrate survivors\, remember those lost\, and fight back against disease that has taken too much\, from too many.
LOCATION:Buena Park Junior High School-Track 6931 Orangethorpe Ave Buena Park\, CA 90620
UID:e.887.23100
SEQUENCE:3
DTSTAMP:20260422T041935Z
URL:https://business.nocchamber.com/events/details/american-cancer-society-relay-for-life-23100
END:VEVENT

END:VCALENDAR
