BEGIN:VCALENDAR
VERSION:2.0
PRODID:-//ChamberMaster//Event Calendar 2.0//EN
METHOD:PUBLISH
X-PUBLISHED-TTL:P3D
REFRESH-INTERVAL:P3D
CALSCALE:GREGORIAN
BEGIN:VEVENT
DTSTART:20170616T003000Z
DTEND:20170616T040000Z
X-MICROSOFT-CDO-ALLDAYEVENT:FALSE
SUMMARY:Alexan Aspect Ribbon Cutting & Reception
DESCRIPTION:Join us for a ribbon cutting ceremony to celebrate the grand opening of Alexan Aspect in Fullerton on Thursday\, June\, 15. Enjoy live entertainment from Chris Jagich and food from local Fullerton vendors!
X-ALT-DESC;FMTTYPE=text/html:Join us for a ribbon cutting ceremony to celebrate the grand opening of <a href="http://alexanaspect.com/" target="_blank">Alexan Aspect</a>&nbsp\;in Fullerton on Thursday\, June\, 15. Enjoy live entertainment from Chris Jagich and food from local Fullerton vendors!
LOCATION:251 Orangefair Ave. Fullerton\, CA 92832 Open Parking is available in our adjacent parking lot in front of Incahoots. Please do not park in front of Burlington. Check in will be in the leasing office.
UID:e.887.16153
SEQUENCE:3
DTSTAMP:20260421T013823Z
URL:https://business.nocchamber.com/events/details/alexan-aspect-ribbon-cutting-reception-16153
END:VEVENT

END:VCALENDAR
