BEGIN:VCALENDAR
VERSION:2.0
PRODID:-//ChamberMaster//Event Calendar 2.0//EN
METHOD:PUBLISH
X-PUBLISHED-TTL:P3D
REFRESH-INTERVAL:P3D
CALSCALE:GREGORIAN
BEGIN:VEVENT
DTSTART:20190925T203000Z
DTEND:20190925T233000Z
X-MICROSOFT-CDO-ALLDAYEVENT:FALSE
SUMMARY:Age Well\, Drive Smart
DESCRIPTION:Please join Senator Chang and the California Highway Patrol for this 2-hour course designed primarily for drivers age 55 and older. It includes classroom instruction on driving safety\, basic road courtesy\, information on the impact visual or hearing impairments have on driving ability\, tips on avoiding or offsetting hazardous road conditions\, and improving driving performance. You will also receive an update on changes the legislature has made to rules of the road and vehicle equipment.
X-ALT-DESC;FMTTYPE=text/html:<p>Please join Senator Chang and the California Highway Patrol for this&nbsp\;2-hour course designed primarily for drivers age 55 and older. It includes classroom instruction on driving safety\, basic road courtesy\, information on the impact visual or hearing impairments have on driving ability\, tips on avoiding or offsetting hazardous road conditions\, and improving driving performance. You will also receive an update on changes the legislature has made to rules of the road and vehicle equipment.</p>\n
LOCATION:Cypress Senior Center 9031 Grindlay St Cypress\, CA 90630
UID:e.887.23695
SEQUENCE:3
DTSTAMP:20260422T001909Z
URL:https://business.nocchamber.com/events/details/age-well-drive-smart-23695
END:VEVENT

END:VCALENDAR
