BEGIN:VCALENDAR
VERSION:2.0
PRODID:-//ChamberMaster//Event Calendar 2.0//EN
METHOD:PUBLISH
X-PUBLISHED-TTL:P3D
REFRESH-INTERVAL:P3D
CALSCALE:GREGORIAN
BEGIN:VEVENT
DTSTART:20170628T183000Z
DTEND:20170628T203000Z
X-MICROSOFT-CDO-ALLDAYEVENT:FALSE
SUMMARY:Aflac's Chat N' Chew
DESCRIPTION:Aflac invites you to find out how small business can get the same opportunity to provide large company benefit packages with a small business budget. Special guest Joel Clark will be discussing how you can save money on your Worker's Comp Premiums. \n\n\n\nMust RSVP to attend by Tuesday\, June 27\, 2017
X-ALT-DESC;FMTTYPE=text/html:Aflac invites you to find out how small business can get the same opportunity to provide large company benefit packages&nbsp\;with a small business budget. Special guest Joel Clark will be discussing how you can save money on your Worker&#39\;s Comp Premiums.&nbsp\;<br />\n<br />\nMust RSVP to attend by Tuesday\, June 27\, 2017
LOCATION:Aflac Insurance Agent 1561 E. Orangethorpe Ave.\, Suite 200 Fullerton\, CA 92831
UID:e.887.16231
SEQUENCE:3
DTSTAMP:20260421T034148Z
URL:https://business.nocchamber.com/events/details/aflac-s-chat-n-chew-16231
END:VEVENT

END:VCALENDAR
