BEGIN:VCALENDAR
VERSION:2.0
PRODID:-//ChamberMaster//Event Calendar 2.0//EN
METHOD:PUBLISH
X-PUBLISHED-TTL:P3D
REFRESH-INTERVAL:P3D
CALSCALE:GREGORIAN
BEGIN:VEVENT
DTSTART:20190507T160000Z
DTEND:20190507T190000Z
X-MICROSOFT-CDO-ALLDAYEVENT:FALSE
SUMMARY:Advanced Amazon Workshop
DESCRIPTION:She Soars On Amazon: An Insider's Guide to Boost Sales Online\n\n\n\nLearn from Vendo Commerce\, A Leadering Expert of the Amazon Roadmap!\n\n\nDon't miss this one-time opportunity to learn from top sellers on Amazon! Vendo and  experienced Amazon Retailers will share how they take sales to the next level by resolving issues most sellers fail to overcome. Vendo will cover essential topics and answer your questions in the following areas:\n\n\n	Vendor Central vs Seller Central\n	Controlling the Seller Channel\n	Reviews\n	Brand Registry 2.0\n	Optimizing Your Listings\n	What are Amazon Brand Stores?
X-ALT-DESC;FMTTYPE=text/html:<h2><span style="color:#232323\;"><span style="font-family:arial\,sans-serif\;"><span style="font-size:10.0pt\;">She Soars On&nbsp\;Amazon: An Insider&#39\;s Guide to Boost Sales Online</span></span></span></h2>\n\n<h3><br />\n<span style="color:#232323\;"><span style="font-family:arial\,sans-serif\;"><span style="font-size:10.0pt\;">Learn from Vendo Commerce\, A Leadering Expert of the Amazon Roadmap!</span></span></span></h3>\n<br />\n<span style="color:#232323\;"><span style="font-family:arial\,sans-serif\;"><span style="font-size:10.0pt\;">Don&rsquo\;t miss this one-time opportunity to <strong><span style="font-family:arial\,sans-serif\;">learn from top sellers on Amazon</span></strong>! <strong><span style="font-family:arial\,sans-serif\;">Vendo and&nbsp\; experienced Amazon Retailers</span></strong> will share how they take sales to the next level by resolving issues most sellers fail to overcome. Vendo will cover essential topics and answer your questions in the following areas:</span></span></span>\n\n<ul>\n	<li style="color:#232323\;"><span style="font-family:arial\,sans-serif\;"><span style="font-size:10.0pt\;">Vendor Central vs Seller Central</span></span></li>\n	<li style="color:#232323\;"><span style="font-family:arial\,sans-serif\;"><span style="font-size:10.0pt\;">Controlling the Seller Channel</span></span></li>\n	<li style="color:#232323\;"><span style="font-family:arial\,sans-serif\;"><span style="font-size:10.0pt\;">Reviews</span></span></li>\n	<li style="color:#232323\;"><span style="font-family:arial\,sans-serif\;"><span style="font-size:10.0pt\;">Brand Registry 2.0</span></span></li>\n	<li style="color:#232323\;"><span style="font-family:arial\,sans-serif\;"><span style="font-size:10.0pt\;">Optimizing Your Listings</span></span></li>\n	<li style="color:#232323\;"><span style="font-family:arial\,sans-serif\;"><span style="font-size:10.0pt\;">What are Amazon Brand Stores?</span></span></li>\n</ul>\n
LOCATION:Garden Grove Community Meeting Center 11300 Stanford Avenue Garden Grove\, CA
UID:e.887.23294
SEQUENCE:3
DTSTAMP:20260422T053048Z
URL:https://business.nocchamber.com/events/details/advanced-amazon-workshop-23294
END:VEVENT

END:VCALENDAR
