BEGIN:VCALENDAR
VERSION:2.0
PRODID:-//ChamberMaster//Event Calendar 2.0//EN
METHOD:PUBLISH
X-PUBLISHED-TTL:P3D
REFRESH-INTERVAL:P3D
CALSCALE:GREGORIAN
BEGIN:VEVENT
DTSTART:20170309T000000Z
DTEND:20170309T013000Z
X-MICROSOFT-CDO-ALLDAYEVENT:FALSE
SUMMARY:Advance Care Planning: Important Choices for Living and Dying
DESCRIPTION:Learn how to record your wishes in the event you cannot speak for yourself\, and how to start the conversation with loved ones and your doctor. Learn what is a Physician Orders for Life Sustaining Treatment (POLST) form and what makes Advance Directives legal.
X-ALT-DESC;FMTTYPE=text/html:Learn how to record your wishes in the event you cannot speak for yourself\, and how to start the conversation with loved ones and your doctor. Learn what is a Physician Orders for Life Sustaining Treatment (POLST) form and what makes Advance Directives legal.
LOCATION:OC Elder Law Long Beach Office 3740 Long Beach Blvd. Long Beach\, CA 90807
UID:e.887.15945
SEQUENCE:3
DTSTAMP:20260421T163747Z
URL:https://business.nocchamber.com/events/details/advance-care-planning-important-choices-for-living-and-dying-03-08-2017-15945
END:VEVENT

END:VCALENDAR
