BEGIN:VCALENDAR
VERSION:2.0
PRODID:-//ChamberMaster//Event Calendar 2.0//EN
METHOD:PUBLISH
X-PUBLISHED-TTL:P3D
REFRESH-INTERVAL:P3D
CALSCALE:GREGORIAN
BEGIN:VEVENT
DTSTART:20170713T003000Z
DTEND:20170713T040000Z
X-MICROSOFT-CDO-ALLDAYEVENT:FALSE
SUMMARY:Access to Capital Workshop
DESCRIPTION:The Center is hosting an educational event at the Downtown Anaheim Community Center: "Access to Capital - Small Business Workshop."Our sessions will include Managing Your Personal and Business Credit\, Social Media and Email Marketing\, a Lender Panel\, and Funding Sources for YOUR Business. These sessions will be presented by industry professionals\, many with decades of experience helping small business owners. \nAvailable to participants is the opportunity to win $1500 Business Advancement Grants! At registration\, simply tell us your story - why you run a small business & some of your challenges and successes - to be eligible.\n\nParking is free for registered guests and refreshments will be provided!
X-ALT-DESC;FMTTYPE=text/html:The Center is hosting an educational event at the Downtown Anaheim Community Center: &quot\;Access to Capital - Small Business Workshop.&quot\;Our sessions will include Managing Your Personal and Business Credit\, Social Media and Email Marketing\, a Lender Panel\, and Funding Sources for YOUR Business. These sessions will be presented by industry professionals\, many with decades of experience helping small business owners.&nbsp\;\n<p>Available to participants is the opportunity to win $1500 Business Advancement Grants! At registration\, simply tell us your story - why you run a small business &amp\; some of your challenges and successes - to be eligible.</p>\n\n<p>Parking is&nbsp\;free&nbsp\;for registered guests and refreshments will be provided!</p>\n\n<p>&nbsp\;</p>\n
LOCATION:Downtown Anaheim Community Center 250 E. Center Street Assembly Hall Anaheim\, CA 92805
UID:e.887.16221
SEQUENCE:3
DTSTAMP:20260421T032537Z
URL:https://business.nocchamber.com/events/details/access-to-capital-workshop-16221
END:VEVENT

END:VCALENDAR
