BEGIN:VCALENDAR
VERSION:2.0
PRODID:-//ChamberMaster//Event Calendar 2.0//EN
METHOD:PUBLISH
X-PUBLISHED-TTL:P3D
REFRESH-INTERVAL:P3D
CALSCALE:GREGORIAN
BEGIN:VEVENT
DTSTART:20190814T190000Z
DTEND:20190814T203000Z
X-MICROSOFT-CDO-ALLDAYEVENT:FALSE
SUMMARY:ACC-OC Lunch & Learn: Scooter Wars
DESCRIPTION:This session of ACC-OC Lunch & Learn\, presented by Zach Heinselman\, will cover challenges faced by cities in designing and implementing shared mobility device regulation.
X-ALT-DESC;FMTTYPE=text/html:This session of ACC-OC Lunch &amp\; Learn\, presented by Zach Heinselman\, will cover challenges faced by cities in designing and implementing shared mobility device regulation.
LOCATION:Fullerton Library 353 Commonwealth Ave. Fullerton\, CA 92832
UID:e.887.23650
SEQUENCE:3
DTSTAMP:20260422T015227Z
URL:https://business.nocchamber.com/events/details/acc-oc-lunch-learn-scooter-wars-23650
END:VEVENT

END:VCALENDAR
